BEGIN:VCALENDAR
VERSION:2.0
PRODID:-//NFCC - ECPv6.15.19//NONSGML v1.0//EN
CALSCALE:GREGORIAN
METHOD:PUBLISH
X-ORIGINAL-URL:https://nfcc.org.uk
X-WR-CALDESC:Events for NFCC
REFRESH-INTERVAL;VALUE=DURATION:PT1H
X-Robots-Tag:noindex
X-PUBLISHED-TTL:PT1H
BEGIN:VTIMEZONE
TZID:Europe/London
BEGIN:DAYLIGHT
TZOFFSETFROM:+0000
TZOFFSETTO:+0100
TZNAME:BST
DTSTART:20250330T010000
END:DAYLIGHT
BEGIN:STANDARD
TZOFFSETFROM:+0100
TZOFFSETTO:+0000
TZNAME:GMT
DTSTART:20251026T010000
END:STANDARD
BEGIN:DAYLIGHT
TZOFFSETFROM:+0000
TZOFFSETTO:+0100
TZNAME:BST
DTSTART:20260329T010000
END:DAYLIGHT
BEGIN:STANDARD
TZOFFSETFROM:+0100
TZOFFSETTO:+0000
TZNAME:GMT
DTSTART:20261025T010000
END:STANDARD
BEGIN:DAYLIGHT
TZOFFSETFROM:+0000
TZOFFSETTO:+0100
TZNAME:BST
DTSTART:20270328T010000
END:DAYLIGHT
BEGIN:STANDARD
TZOFFSETFROM:+0100
TZOFFSETTO:+0000
TZNAME:GMT
DTSTART:20271031T010000
END:STANDARD
END:VTIMEZONE
BEGIN:VEVENT
DTSTART;TZID=Europe/London:20260706T193000
DTEND;TZID=Europe/London:20260708T140000
DTSTAMP:20260425T191040
CREATED:20260407T110729Z
LAST-MODIFIED:20260424T161023Z
UID:10000072-1783366200-1783519200@nfcc.org.uk
SUMMARY:NFCC Members' Conference 2026
DESCRIPTION:The NFCC Members’ Conference will be our flagship members event for 2026\, combining our highly successful Spring and Autumn Conferences into a single\, premier occasion due to competing events in this years calendar. \nDates are 6-8 July and the venue is the Grand Hotel Birmingham. \nThis event follows the format of our Autumn conference\, opening with an informal networking evening\, followed by a full day of conference sessions\, a second networking evening\, a morning of conference sessions and concluding at lunchtime on day three. \nThis event is open to NFCC Members (area manager or equivalent and above) only\, we regret other than the sponsors places there is no commercial attendance at this event. \nIf you know of people in your organisation who have never attended an NFCC event and would benefit from attendance\, please pass the information on. \nCancellation \nDelegates \nFor day Delegate tickets\, no refund will be made within 7 working days of the Event. \nFor tickets that include accommodation and/or dinner\, no refund will be made within 14 working days of the Event. \nSponsors – As per signed sponsorship agreement.
URL:https://nfcc.org.uk/event/nfcc-members-conference-2026/
LOCATION:The Grand Hotel Birmingham\, 1 Church Street\, Birmingham\, B3 2FE\, United Kingdom
CATEGORIES:Conference,Members Conference
ATTACH;FMTTYPE=image/png:https://nfcc.org.uk/wp-content/uploads/2026/04/conference-lectern.png
END:VEVENT
END:VCALENDAR